BEGIN:VCALENDAR
VERSION:2.0
PRODID:-//Salesianos do Funchal - ECPv6.15.20//NONSGML v1.0//EN
CALSCALE:GREGORIAN
METHOD:PUBLISH
X-ORIGINAL-URL:https://www.funchal.salesianos.pt
X-WR-CALDESC:Eventos para Salesianos do Funchal
REFRESH-INTERVAL;VALUE=DURATION:PT1H
X-Robots-Tag:noindex
X-PUBLISHED-TTL:PT1H
BEGIN:VTIMEZONE
TZID:Europe/Lisbon
BEGIN:DAYLIGHT
TZOFFSETFROM:+0000
TZOFFSETTO:+0100
TZNAME:WEST
DTSTART:20220327T010000
END:DAYLIGHT
BEGIN:STANDARD
TZOFFSETFROM:+0100
TZOFFSETTO:+0000
TZNAME:WET
DTSTART:20221030T010000
END:STANDARD
BEGIN:DAYLIGHT
TZOFFSETFROM:+0000
TZOFFSETTO:+0100
TZNAME:WEST
DTSTART:20230326T010000
END:DAYLIGHT
BEGIN:STANDARD
TZOFFSETFROM:+0100
TZOFFSETTO:+0000
TZNAME:WET
DTSTART:20231029T010000
END:STANDARD
BEGIN:DAYLIGHT
TZOFFSETFROM:+0000
TZOFFSETTO:+0100
TZNAME:WEST
DTSTART:20240331T010000
END:DAYLIGHT
BEGIN:STANDARD
TZOFFSETFROM:+0100
TZOFFSETTO:+0000
TZNAME:WET
DTSTART:20241027T010000
END:STANDARD
END:VTIMEZONE
BEGIN:VEVENT
DTSTART;VALUE=DATE:20230428
DTEND;VALUE=DATE:20230502
DTSTAMP:20260420T164855
CREATED:20220921T093736Z
LAST-MODIFIED:20220921T093737Z
UID:11577-1682640000-1682985599@www.funchal.salesianos.pt
SUMMARY:Jogos Nacionais Salesianos 2023
DESCRIPTION:
URL:https://www.funchal.salesianos.pt/evento/jogos-nacionais-salesianos-2023/
LOCATION:Salesianos de Évora\, Av. São João Bosco 4\, Évora\, 7000-766\, Portugal
CATEGORIES:ArtiSport,Escola
ATTACH;FMTTYPE=image/jpeg:https://www.funchal.salesianos.pt/wp-content/uploads/sites/22/2023/11/geral-salesianos-funchal.webp
END:VEVENT
END:VCALENDAR