BEGIN:VCALENDAR
VERSION:2.0
PRODID:-//Salesianos do Funchal - ECPv6.15.20//NONSGML v1.0//EN
CALSCALE:GREGORIAN
METHOD:PUBLISH
X-ORIGINAL-URL:https://www.funchal.salesianos.pt
X-WR-CALDESC:Eventos para Salesianos do Funchal
REFRESH-INTERVAL;VALUE=DURATION:PT1H
X-Robots-Tag:noindex
X-PUBLISHED-TTL:PT1H
BEGIN:VTIMEZONE
TZID:Europe/Lisbon
BEGIN:DAYLIGHT
TZOFFSETFROM:+0000
TZOFFSETTO:+0100
TZNAME:WEST
DTSTART:20220327T010000
END:DAYLIGHT
BEGIN:STANDARD
TZOFFSETFROM:+0100
TZOFFSETTO:+0000
TZNAME:WET
DTSTART:20221030T010000
END:STANDARD
BEGIN:DAYLIGHT
TZOFFSETFROM:+0000
TZOFFSETTO:+0100
TZNAME:WEST
DTSTART:20230326T010000
END:DAYLIGHT
BEGIN:STANDARD
TZOFFSETFROM:+0100
TZOFFSETTO:+0000
TZNAME:WET
DTSTART:20231029T010000
END:STANDARD
BEGIN:DAYLIGHT
TZOFFSETFROM:+0000
TZOFFSETTO:+0100
TZNAME:WEST
DTSTART:20240331T010000
END:DAYLIGHT
BEGIN:STANDARD
TZOFFSETFROM:+0100
TZOFFSETTO:+0000
TZNAME:WET
DTSTART:20241027T010000
END:STANDARD
END:VTIMEZONE
BEGIN:VEVENT
DTSTART;VALUE=DATE:20230608
DTEND;VALUE=DATE:20230609
DTSTAMP:20260421T203626
CREATED:20230529T143059Z
LAST-MODIFIED:20230529T143059Z
UID:13069-1686182400-1686268799@www.funchal.salesianos.pt
SUMMARY:SOLENIDADE DO SANTÍSSIMO CORPO E SANGUE DE CRISTO
DESCRIPTION:
URL:https://www.funchal.salesianos.pt/evento/solenidade-do-santissimo-corpo-e-sangue-de-cristo/
LOCATION:Região Autónoma da Madeira
CATEGORIES:Escola,Salesianos Portugal
ATTACH;FMTTYPE=image/jpeg:https://www.funchal.salesianos.pt/wp-content/uploads/sites/22/2023/11/geral-salesianos-funchal.webp
END:VEVENT
BEGIN:VEVENT
DTSTART;VALUE=DATE:20230617
DTEND;VALUE=DATE:20230618
DTSTAMP:20260421T203626
CREATED:20230603T131329Z
LAST-MODIFIED:20230603T131830Z
UID:13096-1686960000-1687046399@www.funchal.salesianos.pt
SUMMARY:DIA REGIONAL DO ANTIGO ALUNO SALESIANO
DESCRIPTION:Programa: \n10:00 – Visita ao cemitério de S. Martinho\, em homenagem aos Salesianos e Antigos Alunos que já nos deixaram. \n11:00 – Conferência no Auditório do Colégio\, proferida pelo Exmo. Senhor Professor Doutor Sílvio Fernandes\, Magnífico Reitor da Universidade da Madeira. \n12:00 – Missa na Igreja do Colégio. \n13:00 – Almoço de confraternização no refeitório dos Salesianos. \n  \nPreço – 20 €\, por pessoa. \nReservas:\n• Através do telefone 291 200 450\, da receção do Colégio\, e solicitar a ligação à secretaria (para falar com as senhoras Nélia ou Cátia);\n• Através de SMS para os telemóveis 965632912 (João Luís Fernandes) e 962607588 (Jaime Lucas). \nNota: O campo de futebol será disponibilizado como zona de estacionamento\, a partir das 10h45.
URL:https://www.funchal.salesianos.pt/evento/dia-regional-do-antigo-aluno-salesiano/
LOCATION:Salesianos do Funchal\, Rua Mãe dos Homens\, Funchal\, Região Autónoma da Madeira\, Portugal
CATEGORIES:Escola,Salesianos Portugal
ATTACH;FMTTYPE=image/jpeg:https://www.funchal.salesianos.pt/wp-content/uploads/sites/22/2023/11/geral-salesianos-funchal.webp
END:VEVENT
END:VCALENDAR